BEGIN:VCALENDAR
VERSION:2.0
PRODID:-//Zespół Szkół Ekonomicznych im. Mikołaja Kopernika w Olsztynie - ECPv6.15.20//NONSGML v1.0//EN
CALSCALE:GREGORIAN
METHOD:PUBLISH
X-ORIGINAL-URL:https://zse.olsztyn.eu
X-WR-CALDESC:Wydarzenia dla Zespół Szkół Ekonomicznych im. Mikołaja Kopernika w Olsztynie
REFRESH-INTERVAL;VALUE=DURATION:PT1H
X-Robots-Tag:noindex
X-PUBLISHED-TTL:PT1H
BEGIN:VTIMEZONE
TZID:Europe/Warsaw
BEGIN:DAYLIGHT
TZOFFSETFROM:+0100
TZOFFSETTO:+0200
TZNAME:CEST
DTSTART:20250330T010000
END:DAYLIGHT
BEGIN:STANDARD
TZOFFSETFROM:+0200
TZOFFSETTO:+0100
TZNAME:CET
DTSTART:20251026T010000
END:STANDARD
BEGIN:DAYLIGHT
TZOFFSETFROM:+0100
TZOFFSETTO:+0200
TZNAME:CEST
DTSTART:20260329T010000
END:DAYLIGHT
BEGIN:STANDARD
TZOFFSETFROM:+0200
TZOFFSETTO:+0100
TZNAME:CET
DTSTART:20261025T010000
END:STANDARD
BEGIN:DAYLIGHT
TZOFFSETFROM:+0100
TZOFFSETTO:+0200
TZNAME:CEST
DTSTART:20270328T010000
END:DAYLIGHT
BEGIN:STANDARD
TZOFFSETFROM:+0200
TZOFFSETTO:+0100
TZNAME:CET
DTSTART:20271031T010000
END:STANDARD
END:VTIMEZONE
BEGIN:VEVENT
DTSTART;TZID=Europe/Warsaw:20260629T000000
DTEND;TZID=Europe/Warsaw:20260901T000000
DTSTAMP:20260420T195824
CREATED:20250912T101854Z
LAST-MODIFIED:20250912T101854Z
UID:2955-1782691200-1788220800@zse.olsztyn.eu
SUMMARY:Ferie letnie
DESCRIPTION:
URL:https://zse.olsztyn.eu/wydarzenie/ferie-letnie-2/
END:VEVENT
BEGIN:VEVENT
DTSTART;TZID=Europe/Warsaw:20260702T000000
DTEND;TZID=Europe/Warsaw:20260703T000000
DTSTAMP:20260420T195824
CREATED:20250912T102054Z
LAST-MODIFIED:20250912T102054Z
UID:2958-1782950400-1783036800@zse.olsztyn.eu
SUMMARY:Zebranie rady pedagogicznej
DESCRIPTION:
URL:https://zse.olsztyn.eu/wydarzenie/zebranie-rady-pedagogicznej-4/
LOCATION:Zespół Szkół Ekonomicznych im. Mikołaja Kopernika\, ul. Bałtycka 37\, Olsztyn\, Poland
END:VEVENT
END:VCALENDAR